BEGIN:VCALENDAR
VERSION:2.0
PRODID:-//Tukios.com/
BEGIN:VEVENT
UID:bf639103-483a-4f99-b804-5a5f8c493983@www.hamiltonfuneralhomes.net
DTSTAMP:20260422T181802Z
DTSTART:20260509T160000Z
DTEND:20260509T170000Z
SUMMARY:Graveside Service
DESCRIPTION:
URL:https://www.hamiltonfuneralhomes.net/obituaries/bruce-morton
LOCATION: 2753 County Road 2100 E  Golden IL 62339
GEO:40.1601879;-91.1032539
END:VEVENT
END:VCALENDAR